BEGIN:VCALENDAR
VERSION:2.0
PRODID:-//Casa De Oro Alliance - ECPv6.15.18//NONSGML v1.0//EN
CALSCALE:GREGORIAN
METHOD:PUBLISH
X-WR-CALNAME:Casa De Oro Alliance
X-ORIGINAL-URL:https://casadeoroalliance.org
X-WR-CALDESC:Events for Casa De Oro Alliance
REFRESH-INTERVAL;VALUE=DURATION:PT1H
X-Robots-Tag:noindex
X-PUBLISHED-TTL:PT1H
BEGIN:VTIMEZONE
TZID:America/Los_Angeles
BEGIN:DAYLIGHT
TZOFFSETFROM:-0800
TZOFFSETTO:-0700
TZNAME:PDT
DTSTART:20210314T100000
END:DAYLIGHT
BEGIN:STANDARD
TZOFFSETFROM:-0700
TZOFFSETTO:-0800
TZNAME:PST
DTSTART:20211107T090000
END:STANDARD
BEGIN:DAYLIGHT
TZOFFSETFROM:-0800
TZOFFSETTO:-0700
TZNAME:PDT
DTSTART:20220313T100000
END:DAYLIGHT
BEGIN:STANDARD
TZOFFSETFROM:-0700
TZOFFSETTO:-0800
TZNAME:PST
DTSTART:20221106T090000
END:STANDARD
BEGIN:DAYLIGHT
TZOFFSETFROM:-0800
TZOFFSETTO:-0700
TZNAME:PDT
DTSTART:20230312T100000
END:DAYLIGHT
BEGIN:STANDARD
TZOFFSETFROM:-0700
TZOFFSETTO:-0800
TZNAME:PST
DTSTART:20231105T090000
END:STANDARD
END:VTIMEZONE
BEGIN:VEVENT
DTSTART;TZID=America/Los_Angeles:20220427T170000
DTEND;TZID=America/Los_Angeles:20220427T190000
DTSTAMP:20260419T204927
CREATED:20220426T203703Z
LAST-MODIFIED:20220426T203703Z
UID:2965-1651078800-1651086000@casadeoroalliance.org
SUMMARY:San Diego County Sheriff "Coffee With the Community" 4/27 5pm
DESCRIPTION:
URL:https://casadeoroalliance.org/event/san-diego-county-sheriff-coffee-with-the-community-4-27-5pm/
LOCATION:San Diego Youth Services East Campus (Auditorium)\, 3845 Spring Drive\, Spring Valley\, CA
CATEGORIES:Community Events,County Meetings
ATTACH;FMTTYPE=image/jpeg:https://casadeoroalliance.org/wp-content/uploads/2022/04/coffee-April-27.jpg
ORGANIZER;CN="Nancy Ortiz%2C Crime Prevention Specialist":MAILTO:Nancy.Ortiz@sdsheriff.org
END:VEVENT
BEGIN:VEVENT
DTSTART;TZID=America/Los_Angeles:20220424T120000
DTEND;TZID=America/Los_Angeles:20220424T160000
DTSTAMP:20260419T204927
CREATED:20220323T144329Z
LAST-MODIFIED:20220323T145729Z
UID:2150-1650801600-1650816000@casadeoroalliance.org
SUMMARY:Grossmont Mt. Helix Garden Tour 4/24/22 12-4 PM
DESCRIPTION:
URL:https://casadeoroalliance.org/event/grossmont-mt-helix-garden-tour-4-24-22-12-4-pm/
LOCATION:CA
CATEGORIES:Community Events
ATTACH;FMTTYPE=image/jpeg:https://casadeoroalliance.org/wp-content/uploads/2022/03/GMIA-Garden-Tour.jpg
END:VEVENT
BEGIN:VEVENT
DTSTART;TZID=America/Los_Angeles:20220423T130000
DTEND;TZID=America/Los_Angeles:20220423T160000
DTSTAMP:20260419T204927
CREATED:20220415T235302Z
LAST-MODIFIED:20220418T030604Z
UID:2614-1650718800-1650729600@casadeoroalliance.org
SUMMARY:Earth Day at Lamar Park 4/23/22 1-4 pm
DESCRIPTION:NEW TREES FOR LAMAR\, Lamar County Park\nSaturday\, April 23\, 1 – 4 p.m. \nFrom Lamar Park:\nWe’re replenishing the tree canopy at another park in South County. Lamar County Park\, which has received a number of upgrades over the past few years\, is getting a botanical refresh this month\, via a volunteer activity that will put new trees into the ground. All supplies\, including saplings\, will be provided\, and participants will be able to get their hands dirty while planting a tree they can visit and watch grow for years to come. As an added perk\, rangers will be on site with resident raptors for an up-close conversation on live birds of prey! \nFrom Dictionary Hill Open Space Advocates:\nDHOSA will be having a booth there. Look forward to live music\, tree planting\, story time with free books\, face painting and much more. \n 
URL:https://casadeoroalliance.org/event/earth-day-at-lamar-park-4-23-22-1-4-pm/
LOCATION:Lamar County Park\, 3180 Bancroft Drive\, Spring Valley\, CA
CATEGORIES:Community Events
ATTACH;FMTTYPE=image/jpeg:https://casadeoroalliance.org/wp-content/uploads/2022/04/Lamar.jpg
END:VEVENT
BEGIN:VEVENT
DTSTART;TZID=America/Los_Angeles:20220422T090000
DTEND;TZID=America/Los_Angeles:20220422T120000
DTSTAMP:20260419T204927
CREATED:20220405T202708Z
LAST-MODIFIED:20220417T165528Z
UID:2478-1650618000-1650628800@casadeoroalliance.org
SUMMARY:Planning Commission Hearing 4/22/22 9:00 am
DESCRIPTION:For updated information and to see the Agenda\, visit the County's website\n \nhttps://www.sandiegocounty.gov/content/sdc/pds/PC/sop/PCHearing_stream.html \n 
URL:https://casadeoroalliance.org/event/valle-de-oro-community-planning-group-meeting-4-5-22/
LOCATION:County Operations Center (COC) Hearing Room\, 5520 Overland\, San Diego\, CA\, 92123
CATEGORIES:County Meetings
ATTACH;FMTTYPE=image/png:https://casadeoroalliance.org/wp-content/uploads/2022/04/PDS2_logo.png
END:VEVENT
END:VCALENDAR